BEGIN:VCALENDAR
VERSION:2.0
PRODID:-//Squarespace Inc/Squarespace 6//v6//EN
BEGIN:VEVENT
UID:5fd00d303e94b40d038bb3bf@squarespace.com
DTSTAMP:20201224T051156Z
DTSTART:20210201T220000Z
DTEND:20210202T060000Z
SUMMARY:Confined Spaces  
GEO:-33.283333;149.1
LOCATION:Orange\, Orange\, NSW\, Australia
END:VEVENT
END:VCALENDAR
