BEGIN:VCALENDAR
VERSION:2.0
PRODID:-//Squarespace Inc/Squarespace 6//v6//EN
BEGIN:VEVENT
UID:5fd00c31e39aae349110c274@squarespace.com
DTSTAMP:20201224T051235Z
DTSTART:20210203T220000Z
DTEND:20210204T060000Z
SUMMARY:Confined Spaces  
GEO:-32.614457;149.573329
LOCATION:Mudgee\, Mudgee\, NSW\, Australia
END:VEVENT
END:VCALENDAR
