BEGIN:VCALENDAR
VERSION:2.0
PRODID:-//Squarespace Inc/Squarespace 6//v6//EN
BEGIN:VEVENT
UID:5fe422116174a079dad13160@squarespace.com
DTSTAMP:20201224T051639Z
DTSTART:20210211T220000Z
DTEND:20210212T060000Z
SUMMARY:Confined Spaces
GEO:-32.816667;151.483333
LOCATION:Kurri Kurri\, Kurri Kurri\, Australia
END:VEVENT
END:VCALENDAR
