BEGIN:VCALENDAR
VERSION:2.0
PRODID:-//Squarespace Inc/Squarespace 6//v6//EN
BEGIN:VEVENT
UID:5fe4212d2c56b231e6d8e173@squarespace.com
DTSTAMP:20201224T051352Z
DTSTART:20210209T220000Z
DTEND:20210210T060000Z
SUMMARY:Confined Spaces 
GEO:-32.816667;151.483333
LOCATION:Kurri Kurri\, Kurri Kurri\, Australia
END:VEVENT
END:VCALENDAR
