BEGIN:VCALENDAR
VERSION:2.0
PRODID:-//Squarespace Inc/Squarespace 6//v6//EN
BEGIN:VEVENT
UID:5fd003e010495c0ba9169d99@squarespace.com
DTSTAMP:20201224T051529Z
DTSTART:20210210T220000Z
DTEND:20210211T060000Z
SUMMARY:Confined Spaces 
GEO:-34.280088;146.045531
LOCATION:Griffith\, Griffith\, NSW\, Australia
END:VEVENT
END:VCALENDAR
