BEGIN:VCALENDAR
VERSION:2.0
PRODID:-//Squarespace Inc/Squarespace 6//v6//EN
BEGIN:VEVENT
UID:6035955556acf75a69dbb562@squarespace.com
DTSTAMP:20210224T000425Z
DTSTART:20210301T213000Z
DTEND:20210303T013000Z
SUMMARY:Chemical Risk Management (Level 4)
GEO:-34.603485;146.409674
LOCATION:Yanco\, Yanco\, NSW\, Australia
END:VEVENT
END:VCALENDAR
