BEGIN:VCALENDAR
VERSION:2.0
PRODID:-//Squarespace Inc/Squarespace 6//v6//EN
BEGIN:VEVENT
UID:6035980943692c3bfbdcdbb9@squarespace.com
DTSTAMP:20210224T001131Z
DTSTART:20210307T213000Z
DTEND:20210309T013000Z
SUMMARY:Chemical Risk Management (Level 4) 
GEO:-31.092748;150.932033
LOCATION:Tamworth\, Tamworth\, Australia
END:VEVENT
END:VCALENDAR
