BEGIN:VCALENDAR
VERSION:2.0
PRODID:-//Squarespace Inc/Squarespace 6//v6//EN
BEGIN:VEVENT
UID:603599b311020a2a650176fe@squarespace.com
DTSTAMP:20210224T001307Z
DTSTART:20210420T223000Z
DTEND:20210422T023000Z
SUMMARY:Chemical Risk Management (Level 4)  
GEO:-31.092748;150.932033
LOCATION:Narrabri\, Narrabri\, Australia
END:VEVENT
END:VCALENDAR
