BEGIN:VCALENDAR
VERSION:2.0
PRODID:-//Squarespace Inc/Squarespace 6//v6//EN
BEGIN:VEVENT
UID:60349fd5917cba21b0d592b4@squarespace.com
DTSTAMP:20210223T233250Z
DTSTART:20210315T213000Z
DTEND:20210317T053000Z
SUMMARY:Agricultural Chemical Skill Set (Level 3)
GEO:-34.603485;146.409674
LOCATION:Yanco\, Yanco\, NSW\, Australia
END:VEVENT
END:VCALENDAR
