BEGIN:VCALENDAR
VERSION:2.0
PRODID:-//Squarespace Inc/Squarespace 6//v6//EN
BEGIN:VEVENT
UID:603590a299e8e11d74423a80@squarespace.com
DTSTAMP:20210223T233353Z
DTSTART:20210413T223000Z
DTEND:20210415T063000Z
SUMMARY:Agricultural Chemical Skill Set (Level 3)
GEO:-34.603485;146.409674
LOCATION:Yanco\, Yanco\, NSW\, Australia
END:VEVENT
END:VCALENDAR
