BEGIN:VCALENDAR
VERSION:2.0
PRODID:-//Squarespace Inc/Squarespace 6//v6//EN
BEGIN:VEVENT
UID:603590f43f09887ae98cf138@squarespace.com
DTSTAMP:20210223T233607Z
DTSTART:20210418T223000Z
DTEND:20210420T063000Z
SUMMARY:Agricultural Chemical Skill Set (Level 3) 
GEO:-30.332406;149.78124
LOCATION:Narrabri\, Narrabri\, NSW\, Australia
END:VEVENT
END:VCALENDAR
