BEGIN:VCALENDAR
VERSION:2.0
PRODID:-//Squarespace Inc/Squarespace 6//v6//EN
BEGIN:VEVENT
UID:60358dfbaf994e0f4fdf79ab@squarespace.com
DTSTAMP:20210223T233413Z
DTSTART:20210328T213000Z
DTEND:20210330T053000Z
SUMMARY:Agricultural Chemical Skill Set (Level 3)
GEO:-29.465833;149.833889
LOCATION:Moree\, Moree\, NSW\, Australia
END:VEVENT
END:VCALENDAR
