BEGIN:VCALENDAR
VERSION:2.0
PRODID:-//Squarespace Inc/Squarespace 6//v6//EN
BEGIN:VEVENT
UID:5fbce5a51491241adc433156@squarespace.com
DTSTAMP:20201209T230902Z
DTSTART:20210809T230000Z
DTEND:20210810T070000Z
SUMMARY:Advanced Chemical Spray Application Training
GEO:-30.226574;149.445467
LOCATION:Wee-Waa\, Wee-Waa\, NSW\, Australia
END:VEVENT
END:VCALENDAR
