BEGIN:VCALENDAR
VERSION:2.0
PRODID:-//Squarespace Inc/Squarespace 6//v6//EN
BEGIN:VEVENT
UID:5fbce8a168bfc5186165d772@squarespace.com
DTSTAMP:20201209T230959Z
DTSTART:20210823T230000Z
DTEND:20210824T070000Z
SUMMARY:Advanced Chemical Spray Application Training
GEO:-35.694284;146.741558
LOCATION:Walbundrie/Culcairn\, Walbundrie\, NSW\, Australia
END:VEVENT
END:VCALENDAR
