BEGIN:VCALENDAR
VERSION:2.0
PRODID:-//Squarespace Inc/Squarespace 6//v6//EN
BEGIN:VEVENT
UID:5fbce0aa9d104e5f152ae660@squarespace.com
DTSTAMP:20201209T230732Z
DTSTART:20210705T230000Z
DTEND:20210706T070000Z
SUMMARY:Advanced Chemical Spray Application Training
GEO:-28.930534;150.393038
LOCATION:North Star\, North Star\, NSW\, Australia
END:VEVENT
END:VCALENDAR
