BEGIN:VCALENDAR
VERSION:2.0
PRODID:-//Squarespace Inc/Squarespace 6//v6//EN
BEGIN:VEVENT
UID:5fbcde9cd334513fae3ef680@squarespace.com
DTSTAMP:20201209T230358Z
DTSTART:20210315T220000Z
DTEND:20210316T060000Z
SUMMARY:Advanced Chemical Spray Application Training
GEO:-32.232742;148.239468
LOCATION:Narromine\, Narromine\, NSW\, Australia
END:VEVENT
END:VCALENDAR
