BEGIN:VCALENDAR
VERSION:2.0
PRODID:-//Squarespace Inc/Squarespace 6//v6//EN
BEGIN:VEVENT
UID:5fbce2612c6de34c7a365ef7@squarespace.com
DTSTAMP:20201209T230807Z
DTSTART:20210719T230000Z
DTEND:20210720T070000Z
SUMMARY:Advanced Chemical Spray Application Training
GEO:-34.737982;146.557684
LOCATION:Narrandera\, Narrandera\, NSW\, Australia
END:VEVENT
END:VCALENDAR
