BEGIN:VCALENDAR
VERSION:2.0
PRODID:-//Squarespace Inc/Squarespace 6//v6//EN
BEGIN:VEVENT
UID:5fbce3e229c5e266902365b1@squarespace.com
DTSTAMP:20201209T230836Z
DTSTART:20210802T230000Z
DTEND:20210803T070000Z
SUMMARY:Advanced Chemical Spray Application Training
GEO:-28.976944;148.989444
LOCATION:Mungindi\, Mungindi\, NSW\, Australia
END:VEVENT
END:VCALENDAR
