BEGIN:VCALENDAR
VERSION:2.0
PRODID:-//Squarespace Inc/Squarespace 6//v6//EN
BEGIN:VEVENT
UID:5fbcdc0c45ca4f790262cac0@squarespace.com
DTSTAMP:20201209T230135Z
DTSTART:20210222T220000Z
DTEND:20210223T060000Z
SUMMARY:Advanced Chemical Spray Application Training
GEO:-33.485278;145.532778
LOCATION:Hillston\, Hillston\, NSW\, Australia
END:VEVENT
END:VCALENDAR
