BEGIN:VCALENDAR
VERSION:2.0
PRODID:-//Squarespace Inc/Squarespace 6//v6//EN
BEGIN:VEVENT
UID:5fbc9c283fdc31513a065f1c@squarespace.com
DTSTAMP:20201209T231026Z
DTSTART:20210830T230000Z
DTEND:20210831T070000Z
SUMMARY:Advanced Chemical Spray Application Training
GEO:-34.280088;146.045531
LOCATION:Griffith\, Griffith\, NSW\, Australia
END:VEVENT
END:VCALENDAR
