BEGIN:VCALENDAR
VERSION:2.0
PRODID:-//Squarespace Inc/Squarespace 6//v6//EN
BEGIN:VEVENT
UID:5fbcd996b7ee8e70759abcde@squarespace.com
DTSTAMP:20210208T035114Z
DTSTART:20210208T220000Z
DTEND:20210209T060000Z
SUMMARY:Advanced Chemical Spray Application Training 
GEO:-34.747918;149.727745
LOCATION:Goulburn\, Goulburn\, NSW\, Australia
END:VEVENT
END:VCALENDAR
