BEGIN:VCALENDAR
VERSION:2.0
PRODID:-//Squarespace Inc/Squarespace 6//v6//EN
BEGIN:VEVENT
UID:5fbcea75b4c4d833b8bbe2fd@squarespace.com
DTSTAMP:20201209T231057Z
DTSTART:20210927T230000Z
DTEND:20210928T070000Z
SUMMARY:Advanced Chemical Spray Application Training
GEO:-33.828144;148.67785
LOCATION:Cowra\, Cowra\, NSW\, Australia
END:VEVENT
END:VCALENDAR
