BEGIN:VCALENDAR
VERSION:2.0
PRODID:-//Squarespace Inc/Squarespace 6//v6//EN
BEGIN:VEVENT
UID:5fbce798dae50a0145851c51@squarespace.com
DTSTAMP:20201209T230932Z
DTSTART:20210816T230000Z
DTEND:20210817T070000Z
SUMMARY:Advanced Chemical Spray Application Training
GEO:-31.844224;149.683117
LOCATION:Coolah\, Coolah\, NSW\, Australia
END:VEVENT
END:VCALENDAR
