BEGIN:VCALENDAR
VERSION:2.0
PRODID:-//Squarespace Inc/Squarespace 6//v6//EN
BEGIN:VEVENT
UID:5fbcd62c8bc8713fe6f9b95f@squarespace.com
DTSTAMP:20201209T225140Z
DTSTART:20210201T220000Z
DTEND:20210202T060000Z
SUMMARY:Advanced Chemical Spray Application Training 
GEO:-33.835849;147.743651
LOCATION:Caragabal\, Caragabal\, NSW\, Australia
END:VEVENT
END:VCALENDAR
